BEGIN:VCALENDAR
VERSION:2.0
PRODID:-//Christliche Versammlung Eschelbach - ECPv6.15.20//NONSGML v1.0//EN
CALSCALE:GREGORIAN
METHOD:PUBLISH
X-ORIGINAL-URL:http://cv-eschelbach.de
X-WR-CALDESC:Veranstaltungen für Christliche Versammlung Eschelbach
REFRESH-INTERVAL;VALUE=DURATION:PT1H
X-Robots-Tag:noindex
X-PUBLISHED-TTL:PT1H
BEGIN:VTIMEZONE
TZID:Europe/Berlin
BEGIN:DAYLIGHT
TZOFFSETFROM:+0100
TZOFFSETTO:+0200
TZNAME:CEST
DTSTART:20230326T010000
END:DAYLIGHT
BEGIN:STANDARD
TZOFFSETFROM:+0200
TZOFFSETTO:+0100
TZNAME:CET
DTSTART:20231029T010000
END:STANDARD
BEGIN:DAYLIGHT
TZOFFSETFROM:+0100
TZOFFSETTO:+0200
TZNAME:CEST
DTSTART:20240331T010000
END:DAYLIGHT
BEGIN:STANDARD
TZOFFSETFROM:+0200
TZOFFSETTO:+0100
TZNAME:CET
DTSTART:20241027T010000
END:STANDARD
BEGIN:DAYLIGHT
TZOFFSETFROM:+0100
TZOFFSETTO:+0200
TZNAME:CEST
DTSTART:20250330T010000
END:DAYLIGHT
BEGIN:STANDARD
TZOFFSETFROM:+0200
TZOFFSETTO:+0100
TZNAME:CET
DTSTART:20251026T010000
END:STANDARD
END:VTIMEZONE
BEGIN:VEVENT
DTSTART;TZID=Europe/Berlin:20240420T093000
DTEND;TZID=Europe/Berlin:20240420T120000
DTSTAMP:20260421T091743
CREATED:20240414T124121Z
LAST-MODIFIED:20240414T124813Z
UID:588-1713605400-1713614400@cv-eschelbach.de
SUMMARY:Frühstück für Frauen
DESCRIPTION:Herzliche Einladung zu einem Frühstück für Frauen in der Weinstr.4. \nmit \nHeide Richter \nBitte um vorherige Anmeldung: \nAnmeldung@cv-eschelbach.de \nEintritt frei.
URL:http://cv-eschelbach.de/event/fruehstueck-fuer-frauen/
LOCATION:Chr. Versammlung Saal\, Weinstr.4\, Sinsheim\, 74889\, Deutschland
END:VEVENT
BEGIN:VEVENT
DTSTART;TZID=Europe/Berlin:20240420T190000
DTEND;TZID=Europe/Berlin:20240420T220000
DTSTAMP:20260421T091743
CREATED:20240414T125055Z
LAST-MODIFIED:20240414T125055Z
UID:592-1713639600-1713650400@cv-eschelbach.de
SUMMARY:Jugendgottesdienst Meckesheim
DESCRIPTION:https://cvjmheidelberg.de/veranstaltung/yonah-jugendgottesdienst-2023-12-02 \nNähe Bahnhof Meckesheim \n  \n 
URL:http://cv-eschelbach.de/event/jugendgottesdienst-meckesheim/
END:VEVENT
END:VCALENDAR