BEGIN:VCALENDAR
VERSION:2.0
PRODID:-//Christliche Versammlung Eschelbach - ECPv6.15.20//NONSGML v1.0//EN
CALSCALE:GREGORIAN
METHOD:PUBLISH
X-WR-CALNAME:Christliche Versammlung Eschelbach
X-ORIGINAL-URL:http://cv-eschelbach.de
X-WR-CALDESC:Veranstaltungen für Christliche Versammlung Eschelbach
REFRESH-INTERVAL;VALUE=DURATION:PT1H
X-Robots-Tag:noindex
X-PUBLISHED-TTL:PT1H
BEGIN:VTIMEZONE
TZID:Europe/Berlin
BEGIN:DAYLIGHT
TZOFFSETFROM:+0100
TZOFFSETTO:+0200
TZNAME:CEST
DTSTART:20230326T010000
END:DAYLIGHT
BEGIN:STANDARD
TZOFFSETFROM:+0200
TZOFFSETTO:+0100
TZNAME:CET
DTSTART:20231029T010000
END:STANDARD
BEGIN:DAYLIGHT
TZOFFSETFROM:+0100
TZOFFSETTO:+0200
TZNAME:CEST
DTSTART:20240331T010000
END:DAYLIGHT
BEGIN:STANDARD
TZOFFSETFROM:+0200
TZOFFSETTO:+0100
TZNAME:CET
DTSTART:20241027T010000
END:STANDARD
BEGIN:DAYLIGHT
TZOFFSETFROM:+0100
TZOFFSETTO:+0200
TZNAME:CEST
DTSTART:20250330T010000
END:DAYLIGHT
BEGIN:STANDARD
TZOFFSETFROM:+0200
TZOFFSETTO:+0100
TZNAME:CET
DTSTART:20251026T010000
END:STANDARD
END:VTIMEZONE
BEGIN:VEVENT
DTSTART;TZID=Europe/Berlin:20240915T093000
DTEND;TZID=Europe/Berlin:20240915T103000
DTSTAMP:20260420T222554
CREATED:20240708T194036Z
LAST-MODIFIED:20240708T194036Z
UID:671-1726392600-1726396200@cv-eschelbach.de
SUMMARY:Gedächtnismahl
DESCRIPTION:
URL:http://cv-eschelbach.de/event/gedaechtnismahl-6/
END:VEVENT
BEGIN:VEVENT
DTSTART;TZID=Europe/Berlin:20240915T103000
DTEND;TZID=Europe/Berlin:20240915T113000
DTSTAMP:20260420T222554
CREATED:20240708T193910Z
LAST-MODIFIED:20240708T193910Z
UID:669-1726396200-1726399800@cv-eschelbach.de
SUMMARY:Predigtstunde
DESCRIPTION:Wegen der Taufe am Nachmittag findet heute kein Predigtgottesdienst statt.
URL:http://cv-eschelbach.de/event/predigtstunde-3/
END:VEVENT
BEGIN:VEVENT
DTSTART;TZID=Europe/Berlin:20240915T150000
DTEND;TZID=Europe/Berlin:20240915T170000
DTSTAMP:20260420T222554
CREATED:20240708T193629Z
LAST-MODIFIED:20240708T193629Z
UID:667-1726412400-1726419600@cv-eschelbach.de
SUMMARY:Taufe
DESCRIPTION:Heute lassen sich Geschwister unserer Gemeinde taufen. \nIm Anschluß an die Taufe gibt es noch Zeit für Gemeinschaft bei Kaffee und Kuchen.
URL:http://cv-eschelbach.de/event/taufe/
LOCATION:Chr. Versammlung Saal\, Weinstr.4\, Sinsheim\, 74889\, Deutschland
END:VEVENT
END:VCALENDAR