BEGIN:VCALENDAR
VERSION:2.0
PRODID:-//Christliche Versammlung Eschelbach - ECPv6.15.20//NONSGML v1.0//EN
CALSCALE:GREGORIAN
METHOD:PUBLISH
X-WR-CALNAME:Christliche Versammlung Eschelbach
X-ORIGINAL-URL:http://cv-eschelbach.de
X-WR-CALDESC:Veranstaltungen für Christliche Versammlung Eschelbach
REFRESH-INTERVAL;VALUE=DURATION:PT1H
X-Robots-Tag:noindex
X-PUBLISHED-TTL:PT1H
BEGIN:VTIMEZONE
TZID:Europe/Berlin
BEGIN:DAYLIGHT
TZOFFSETFROM:+0100
TZOFFSETTO:+0200
TZNAME:CEST
DTSTART:20230326T010000
END:DAYLIGHT
BEGIN:STANDARD
TZOFFSETFROM:+0200
TZOFFSETTO:+0100
TZNAME:CET
DTSTART:20231029T010000
END:STANDARD
BEGIN:DAYLIGHT
TZOFFSETFROM:+0100
TZOFFSETTO:+0200
TZNAME:CEST
DTSTART:20240331T010000
END:DAYLIGHT
BEGIN:STANDARD
TZOFFSETFROM:+0200
TZOFFSETTO:+0100
TZNAME:CET
DTSTART:20241027T010000
END:STANDARD
BEGIN:DAYLIGHT
TZOFFSETFROM:+0100
TZOFFSETTO:+0200
TZNAME:CEST
DTSTART:20250330T010000
END:DAYLIGHT
BEGIN:STANDARD
TZOFFSETFROM:+0200
TZOFFSETTO:+0100
TZNAME:CET
DTSTART:20251026T010000
END:STANDARD
END:VTIMEZONE
BEGIN:VEVENT
DTSTART;VALUE=DATE:20241231
DTEND;VALUE=DATE:20250101
DTSTAMP:20260422T134021
CREATED:20241109T190423Z
LAST-MODIFIED:20241109T190423Z
UID:728-1735603200-1735689599@cv-eschelbach.de
SUMMARY:Bibel-/Gebetsstunde
DESCRIPTION:fällt aus. \nStattdessen \nJahresabschluss-Versammlung \num 18.00 Uhr
URL:http://cv-eschelbach.de/event/bibel-gebetsstunde-2/
END:VEVENT
BEGIN:VEVENT
DTSTART;TZID=Europe/Berlin:20241231T180000
DTEND;TZID=Europe/Berlin:20241231T190000
DTSTAMP:20260422T134021
CREATED:20241109T190939Z
LAST-MODIFIED:20241109T190939Z
UID:732-1735668000-1735671600@cv-eschelbach.de
SUMMARY:Gottesdienst (18Uhr) am Jahresende
DESCRIPTION:…mit offenen Beiträgen zum Jahreswechsel…
URL:http://cv-eschelbach.de/event/gottesdienst-18uhr-am-jahresende/
END:VEVENT
END:VCALENDAR