BEGIN:VCALENDAR
VERSION:2.0
PRODID:-//Christliche Versammlung Eschelbach - ECPv6.15.20//NONSGML v1.0//EN
CALSCALE:GREGORIAN
METHOD:PUBLISH
X-ORIGINAL-URL:http://cv-eschelbach.de
X-WR-CALDESC:Veranstaltungen für Christliche Versammlung Eschelbach
REFRESH-INTERVAL;VALUE=DURATION:PT1H
X-Robots-Tag:noindex
X-PUBLISHED-TTL:PT1H
BEGIN:VTIMEZONE
TZID:Europe/Berlin
BEGIN:DAYLIGHT
TZOFFSETFROM:+0100
TZOFFSETTO:+0200
TZNAME:CEST
DTSTART:20230326T010000
END:DAYLIGHT
BEGIN:STANDARD
TZOFFSETFROM:+0200
TZOFFSETTO:+0100
TZNAME:CET
DTSTART:20231029T010000
END:STANDARD
BEGIN:DAYLIGHT
TZOFFSETFROM:+0100
TZOFFSETTO:+0200
TZNAME:CEST
DTSTART:20240331T010000
END:DAYLIGHT
BEGIN:STANDARD
TZOFFSETFROM:+0200
TZOFFSETTO:+0100
TZNAME:CET
DTSTART:20241027T010000
END:STANDARD
BEGIN:DAYLIGHT
TZOFFSETFROM:+0100
TZOFFSETTO:+0200
TZNAME:CEST
DTSTART:20250330T010000
END:DAYLIGHT
BEGIN:STANDARD
TZOFFSETFROM:+0200
TZOFFSETTO:+0100
TZNAME:CET
DTSTART:20251026T010000
END:STANDARD
END:VTIMEZONE
BEGIN:VEVENT
DTSTART;TZID=Europe/Berlin:20240602T150000
DTEND;TZID=Europe/Berlin:20240602T190000
DTSTAMP:20260420T140456
CREATED:20240509T104402Z
LAST-MODIFIED:20240509T104402Z
UID:643-1717340400-1717354800@cv-eschelbach.de
SUMMARY:Gartencafe (Adelshofen)
DESCRIPTION:  \nhttps://www.lza.de/veranstaltungen/standard-titel/nach-rubriken/kinder-familie-1/events-fuer-alle/gartencafe
URL:http://cv-eschelbach.de/event/gartencafe-adelshofen/
LOCATION:Lebenszentrum Adelshofen\, Wartbergstr. 13\, 75031 Eppingen Adelshofen\, Deutschland
END:VEVENT
BEGIN:VEVENT
DTSTART;TZID=Europe/Berlin:20240604T200000
DTEND;TZID=Europe/Berlin:20240604T213000
DTSTAMP:20260420T140456
CREATED:20240508T052027Z
LAST-MODIFIED:20240508T052027Z
UID:641-1717531200-1717536600@cv-eschelbach.de
SUMMARY:Vortrag: Jesus im Koran und in der Bibel
DESCRIPTION:Thema \nJesus im Koran und in der Bibel \nDienstag\,4.6.  20 Uhr.
URL:http://cv-eschelbach.de/event/vortrag-jesus-im-koran-und-in-der-bibel/
END:VEVENT
BEGIN:VEVENT
DTSTART;TZID=Europe/Berlin:20240609T103000
DTEND;TZID=Europe/Berlin:20240609T103000
DTSTAMP:20260420T140456
CREATED:20240505T125841Z
LAST-MODIFIED:20240505T125841Z
UID:618-1717929000-1717929000@cv-eschelbach.de
SUMMARY:Predigt: Hartmut Peters
DESCRIPTION:
URL:http://cv-eschelbach.de/event/predigt-hartmut-peters-2/
END:VEVENT
BEGIN:VEVENT
DTSTART;TZID=Europe/Berlin:20240618T200000
DTEND;TZID=Europe/Berlin:20240618T213000
DTSTAMP:20260420T140456
CREATED:20240505T124056Z
LAST-MODIFIED:20240522T203551Z
UID:610-1718740800-1718746200@cv-eschelbach.de
SUMMARY:Jahreshauptversammlung Chr. Missionsverein Kraichgau e.V
DESCRIPTION:Hiermit laden wir alle Mitglieder und Freunde \ndes Christlichen Missionsverein Kraichgau e.V. \nam \nDienstag\, 18.06.2024 um 20 Uhr  \nzur \nJahreshauptversammlung 2024 \nin die Weinstr. 4 in Eschelbach ein. \nTagesordnung: \n1. Begrüßung und Ansprache des Vorstandes \n2. Feststellen der Beschlussfähigkeit \n3. Genehmigung der Tagesordnung \n4. Bericht des Vorstandes \n5. Kassenbericht 2023 und aktuelle finanzielle Situation \n6. Genehmigung des Kassenberichtes 2023 \n7. Entlastung Vorstand und Kassierer \n8. Verschiedenes *) \nSinsheim-Eschelbach\, den 22.05.2024 \n  \nJoachim Rudisile   \n(Vorsitzender) \nStefan Keller \n(stellv. Vorsitzender) \n  \n*) Punkte zu „Verschiedenes“ möglichst beim Vorstand bis zum 11.06.24 anmelden.  \n 
URL:http://cv-eschelbach.de/event/jahreshauptversammlung-chr-missionsverein-kraichgau-e-v/
LOCATION:Chr. Versammlung Saal\, Weinstr.4\, Sinsheim\, 74889\, Deutschland
END:VEVENT
BEGIN:VEVENT
DTSTART;TZID=Europe/Berlin:20240623T103000
DTEND;TZID=Europe/Berlin:20240623T114000
DTSTAMP:20260420T140456
CREATED:20240508T051313Z
LAST-MODIFIED:20240508T051313Z
UID:638-1719138600-1719142800@cv-eschelbach.de
SUMMARY:Martin Kurani
DESCRIPTION:
URL:http://cv-eschelbach.de/event/martin-kurani/
END:VEVENT
BEGIN:VEVENT
DTSTART;TZID=Europe/Berlin:20240630T103000
DTEND;TZID=Europe/Berlin:20240630T103000
DTSTAMP:20260420T140456
CREATED:20240505T130036Z
LAST-MODIFIED:20240505T130036Z
UID:620-1719743400-1719743400@cv-eschelbach.de
SUMMARY:Predigt: Samuel Hablützel
DESCRIPTION:
URL:http://cv-eschelbach.de/event/predigt-samuel-habluetzel/
END:VEVENT
END:VCALENDAR