BEGIN:VCALENDAR
VERSION:2.0
PRODID:-//Christliche Versammlung Eschelbach - ECPv6.15.20//NONSGML v1.0//EN
CALSCALE:GREGORIAN
METHOD:PUBLISH
X-WR-CALNAME:Christliche Versammlung Eschelbach
X-ORIGINAL-URL:http://cv-eschelbach.de
X-WR-CALDESC:Veranstaltungen für Christliche Versammlung Eschelbach
REFRESH-INTERVAL;VALUE=DURATION:PT1H
X-Robots-Tag:noindex
X-PUBLISHED-TTL:PT1H
BEGIN:VTIMEZONE
TZID:Europe/Berlin
BEGIN:DAYLIGHT
TZOFFSETFROM:+0100
TZOFFSETTO:+0200
TZNAME:CEST
DTSTART:20230326T010000
END:DAYLIGHT
BEGIN:STANDARD
TZOFFSETFROM:+0200
TZOFFSETTO:+0100
TZNAME:CET
DTSTART:20231029T010000
END:STANDARD
BEGIN:DAYLIGHT
TZOFFSETFROM:+0100
TZOFFSETTO:+0200
TZNAME:CEST
DTSTART:20240331T010000
END:DAYLIGHT
BEGIN:STANDARD
TZOFFSETFROM:+0200
TZOFFSETTO:+0100
TZNAME:CET
DTSTART:20241027T010000
END:STANDARD
BEGIN:DAYLIGHT
TZOFFSETFROM:+0100
TZOFFSETTO:+0200
TZNAME:CEST
DTSTART:20250330T010000
END:DAYLIGHT
BEGIN:STANDARD
TZOFFSETFROM:+0200
TZOFFSETTO:+0100
TZNAME:CET
DTSTART:20251026T010000
END:STANDARD
END:VTIMEZONE
BEGIN:VEVENT
DTSTART;TZID=Europe/Berlin:20240702T200000
DTEND;TZID=Europe/Berlin:20240702T213000
DTSTAMP:20260420T154303
CREATED:20240606T080355Z
LAST-MODIFIED:20240606T080518Z
UID:655-1719950400-1719955800@cv-eschelbach.de
SUMMARY:Bericht: Inge Danzeisen
DESCRIPTION:Missionsbericht aus der Literaturarbeit in Tansania \nInge Danzeisen\nlebt seit 1986 in Dodoma/Tansania. Sie ist Leiterin eines Verlags und aktiv in der Musikarbeit der tansanischen Gemeinden. \n 
URL:http://cv-eschelbach.de/event/bericht-inge-danzeisen/
LOCATION:Chr. Versammlung Saal\, Weinstr.4\, Sinsheim\, 74889\, Deutschland
END:VEVENT
BEGIN:VEVENT
DTSTART;TZID=Europe/Berlin:20240707T103000
DTEND;TZID=Europe/Berlin:20240707T113000
DTSTAMP:20260420T154303
CREATED:20240505T124434Z
LAST-MODIFIED:20240505T125011Z
UID:613-1720348200-1720351800@cv-eschelbach.de
SUMMARY:Aussendung: Jonas Schutz
DESCRIPTION:Aussendungsgottesdienst von Jonas Schutz (Rollstuhlprojekt in Thailand) \nhttps://www.dmgint.de/einsatzfinder/details/rollstuhlprojekt
URL:http://cv-eschelbach.de/event/aussendung-jonas-schutz/
LOCATION:Chr. Versammlung Saal\, Weinstr.4\, Sinsheim\, 74889\, Deutschland
END:VEVENT
BEGIN:VEVENT
DTSTART;TZID=Europe/Berlin:20240714T103000
DTEND;TZID=Europe/Berlin:20240714T113000
DTSTAMP:20260420T154303
CREATED:20240505T130321Z
LAST-MODIFIED:20240505T130321Z
UID:622-1720953000-1720956600@cv-eschelbach.de
SUMMARY:Vortrag: Armin Lindenfelser
DESCRIPTION:Die Geschichte der Brüderbewegung in Baden..
URL:http://cv-eschelbach.de/event/vortrag-armin-lindenfelser/
END:VEVENT
BEGIN:VEVENT
DTSTART;VALUE=DATE:20240720
DTEND;VALUE=DATE:20240722
DTSTAMP:20260420T154303
CREATED:20240623T150245Z
LAST-MODIFIED:20240623T150245Z
UID:662-1721433600-1721606399@cv-eschelbach.de
SUMMARY:JUMI
DESCRIPTION:Jugend-Event \nmit Anmeldung und Übernachtung \nhttps://www.dmgint.de/veranstaltungen/eventdetails/jumi24 \n 
URL:http://cv-eschelbach.de/event/jumi/
LOCATION:DMG Buchenauerhof\, Buchenauerhof\, Sinsheim\, 74889\, Deutschland
END:VEVENT
END:VCALENDAR