BEGIN:VCALENDAR
VERSION:2.0
PRODID:-//Christliche Versammlung Eschelbach - ECPv6.15.20//NONSGML v1.0//EN
CALSCALE:GREGORIAN
METHOD:PUBLISH
X-ORIGINAL-URL:http://cv-eschelbach.de
X-WR-CALDESC:Veranstaltungen für Christliche Versammlung Eschelbach
REFRESH-INTERVAL;VALUE=DURATION:PT1H
X-Robots-Tag:noindex
X-PUBLISHED-TTL:PT1H
BEGIN:VTIMEZONE
TZID:Europe/Berlin
BEGIN:DAYLIGHT
TZOFFSETFROM:+0100
TZOFFSETTO:+0200
TZNAME:CEST
DTSTART:20230326T010000
END:DAYLIGHT
BEGIN:STANDARD
TZOFFSETFROM:+0200
TZOFFSETTO:+0100
TZNAME:CET
DTSTART:20231029T010000
END:STANDARD
BEGIN:DAYLIGHT
TZOFFSETFROM:+0100
TZOFFSETTO:+0200
TZNAME:CEST
DTSTART:20240331T010000
END:DAYLIGHT
BEGIN:STANDARD
TZOFFSETFROM:+0200
TZOFFSETTO:+0100
TZNAME:CET
DTSTART:20241027T010000
END:STANDARD
BEGIN:DAYLIGHT
TZOFFSETFROM:+0100
TZOFFSETTO:+0200
TZNAME:CEST
DTSTART:20250330T010000
END:DAYLIGHT
BEGIN:STANDARD
TZOFFSETFROM:+0200
TZOFFSETTO:+0100
TZNAME:CET
DTSTART:20251026T010000
END:STANDARD
END:VTIMEZONE
BEGIN:VEVENT
DTSTART;TZID=Europe/Berlin:20240804T103000
DTEND;TZID=Europe/Berlin:20240804T114500
DTSTAMP:20260420T185449
CREATED:20240607T205448Z
LAST-MODIFIED:20240607T205448Z
UID:658-1722767400-1722771900@cv-eschelbach.de
SUMMARY:Predigt: Detlef Blöcher
DESCRIPTION:
URL:http://cv-eschelbach.de/event/predigt-detlef-bloecher/
END:VEVENT
BEGIN:VEVENT
DTSTART;TZID=Europe/Berlin:20240811T103000
DTEND;TZID=Europe/Berlin:20240811T114000
DTSTAMP:20260420T185449
CREATED:20240505T130506Z
LAST-MODIFIED:20240505T130506Z
UID:624-1723372200-1723376400@cv-eschelbach.de
SUMMARY:Predigt: Christoph Herm
DESCRIPTION:
URL:http://cv-eschelbach.de/event/predigt-christoph-herm-3/
END:VEVENT
BEGIN:VEVENT
DTSTART;TZID=Europe/Berlin:20240818T103500
DTEND;TZID=Europe/Berlin:20240818T103500
DTSTAMP:20260420T185449
CREATED:20231113T204249Z
LAST-MODIFIED:20231113T204335Z
UID:518-1723977300-1723977300@cv-eschelbach.de
SUMMARY:Vortrag: Open Doors
DESCRIPTION:
URL:http://cv-eschelbach.de/event/open-doors/
LOCATION:Chr. Versammlung Saal\, Weinstr.4\, Sinsheim\, 74889\, Deutschland
END:VEVENT
BEGIN:VEVENT
DTSTART;TZID=Europe/Berlin:20240825T090000
DTEND;TZID=Europe/Berlin:20240825T103000
DTSTAMP:20260420T185449
CREATED:20240505T131212Z
LAST-MODIFIED:20240505T131212Z
UID:630-1724576400-1724581800@cv-eschelbach.de
SUMMARY:Gedächtnismahl
DESCRIPTION:
URL:http://cv-eschelbach.de/event/gedaechtnismahl-5/
END:VEVENT
BEGIN:VEVENT
DTSTART;TZID=Europe/Berlin:20240825T103000
DTEND;TZID=Europe/Berlin:20240825T113000
DTSTAMP:20260420T185449
CREATED:20240505T131052Z
LAST-MODIFIED:20240505T131306Z
UID:628-1724581800-1724585400@cv-eschelbach.de
SUMMARY:Predigtstunde
DESCRIPTION:Entfällt\, da geneinsames Mittagessen
URL:http://cv-eschelbach.de/event/predigtstunde-2/
END:VEVENT
BEGIN:VEVENT
DTSTART;TZID=Europe/Berlin:20240825T103000
DTEND;TZID=Europe/Berlin:20240825T130000
DTSTAMP:20260420T185449
CREATED:20240505T130903Z
LAST-MODIFIED:20240505T130903Z
UID:626-1724581800-1724590800@cv-eschelbach.de
SUMMARY:Gemeinsames Grillen (Weinstr.4)
DESCRIPTION:Heute gibt es Zeit für Gemeinschaft und ein gemeinsames Mittagessen. \nFam. Samuel Hablützel wird ebenfalls zu Besuch sein.
URL:http://cv-eschelbach.de/event/gemeinsames-grillen-weinstr-4/
END:VEVENT
END:VCALENDAR