BEGIN:VCALENDAR
VERSION:2.0
PRODID:-//Christliche Versammlung Eschelbach - ECPv6.15.20//NONSGML v1.0//EN
CALSCALE:GREGORIAN
METHOD:PUBLISH
X-WR-CALNAME:Christliche Versammlung Eschelbach
X-ORIGINAL-URL:http://cv-eschelbach.de
X-WR-CALDESC:Veranstaltungen für Christliche Versammlung Eschelbach
REFRESH-INTERVAL;VALUE=DURATION:PT1H
X-Robots-Tag:noindex
X-PUBLISHED-TTL:PT1H
BEGIN:VTIMEZONE
TZID:Europe/Berlin
BEGIN:DAYLIGHT
TZOFFSETFROM:+0100
TZOFFSETTO:+0200
TZNAME:CEST
DTSTART:20240331T010000
END:DAYLIGHT
BEGIN:STANDARD
TZOFFSETFROM:+0200
TZOFFSETTO:+0100
TZNAME:CET
DTSTART:20241027T010000
END:STANDARD
BEGIN:DAYLIGHT
TZOFFSETFROM:+0100
TZOFFSETTO:+0200
TZNAME:CEST
DTSTART:20250330T010000
END:DAYLIGHT
BEGIN:STANDARD
TZOFFSETFROM:+0200
TZOFFSETTO:+0100
TZNAME:CET
DTSTART:20251026T010000
END:STANDARD
BEGIN:DAYLIGHT
TZOFFSETFROM:+0100
TZOFFSETTO:+0200
TZNAME:CEST
DTSTART:20260329T010000
END:DAYLIGHT
BEGIN:STANDARD
TZOFFSETFROM:+0200
TZOFFSETTO:+0100
TZNAME:CET
DTSTART:20261025T010000
END:STANDARD
END:VTIMEZONE
BEGIN:VEVENT
DTSTART;TZID=Europe/Berlin:20250112T103000
DTEND;TZID=Europe/Berlin:20250112T114000
DTSTAMP:20260422T134032
CREATED:20250106T095230Z
LAST-MODIFIED:20250106T095230Z
UID:767-1736677800-1736682000@cv-eschelbach.de
SUMMARY:Predigt: Hartmut Peters
DESCRIPTION:
URL:http://cv-eschelbach.de/event/predigt-hartmut-peters-3/
END:VEVENT
BEGIN:VEVENT
DTSTART;TZID=Europe/Berlin:20250126T103000
DTEND;TZID=Europe/Berlin:20250126T114000
DTSTAMP:20260422T134032
CREATED:20250106T095349Z
LAST-MODIFIED:20250106T095349Z
UID:769-1737887400-1737891600@cv-eschelbach.de
SUMMARY:Predigt: Rainer Wildermuth
DESCRIPTION:
URL:http://cv-eschelbach.de/event/predigt-rainer-wildermuth-4/
END:VEVENT
END:VCALENDAR