BEGIN:VCALENDAR
VERSION:2.0
PRODID:-//Christliche Versammlung Eschelbach - ECPv6.15.20//NONSGML v1.0//EN
CALSCALE:GREGORIAN
METHOD:PUBLISH
X-ORIGINAL-URL:http://cv-eschelbach.de
X-WR-CALDESC:Veranstaltungen für Christliche Versammlung Eschelbach
REFRESH-INTERVAL;VALUE=DURATION:PT1H
X-Robots-Tag:noindex
X-PUBLISHED-TTL:PT1H
BEGIN:VTIMEZONE
TZID:Europe/Berlin
BEGIN:DAYLIGHT
TZOFFSETFROM:+0100
TZOFFSETTO:+0200
TZNAME:CEST
DTSTART:20240331T010000
END:DAYLIGHT
BEGIN:STANDARD
TZOFFSETFROM:+0200
TZOFFSETTO:+0100
TZNAME:CET
DTSTART:20241027T010000
END:STANDARD
BEGIN:DAYLIGHT
TZOFFSETFROM:+0100
TZOFFSETTO:+0200
TZNAME:CEST
DTSTART:20250330T010000
END:DAYLIGHT
BEGIN:STANDARD
TZOFFSETFROM:+0200
TZOFFSETTO:+0100
TZNAME:CET
DTSTART:20251026T010000
END:STANDARD
BEGIN:DAYLIGHT
TZOFFSETFROM:+0100
TZOFFSETTO:+0200
TZNAME:CEST
DTSTART:20260329T010000
END:DAYLIGHT
BEGIN:STANDARD
TZOFFSETFROM:+0200
TZOFFSETTO:+0100
TZNAME:CET
DTSTART:20261025T010000
END:STANDARD
END:VTIMEZONE
BEGIN:VEVENT
DTSTART;TZID=Europe/Berlin:20250302T103000
DTEND;TZID=Europe/Berlin:20250302T114500
DTSTAMP:20260422T222534
CREATED:20250129T183012Z
LAST-MODIFIED:20250129T183012Z
UID:799-1740911400-1740915900@cv-eschelbach.de
SUMMARY:Predigt: Manoah Rudisile
DESCRIPTION:
URL:http://cv-eschelbach.de/event/predigt-manoah-rudisile/
END:VEVENT
BEGIN:VEVENT
DTSTART;TZID=Europe/Berlin:20250316T103000
DTEND;TZID=Europe/Berlin:20250316T114500
DTSTAMP:20260422T222534
CREATED:20250307T200331Z
LAST-MODIFIED:20250307T200331Z
UID:816-1742121000-1742125500@cv-eschelbach.de
SUMMARY:Offene Beiträge
DESCRIPTION:Keine eingeteilte Predigt !! \nEs besteht heute die Möglichkeit zu mehreren kurzen Wortlesungen\,  Zeugnissen und aktuellen Bekanntmachungen aus den Arbeitsbereichen etc.
URL:http://cv-eschelbach.de/event/offene-beitraege-3/
END:VEVENT
BEGIN:VEVENT
DTSTART;TZID=Europe/Berlin:20250323T103000
DTEND;TZID=Europe/Berlin:20250323T113000
DTSTAMP:20260422T222534
CREATED:20241121T055617Z
LAST-MODIFIED:20241121T055617Z
UID:753-1742725800-1742729400@cv-eschelbach.de
SUMMARY:Bericht: Sebastian Braun
DESCRIPTION:
URL:http://cv-eschelbach.de/event/bericht-sebastian-braun/
END:VEVENT
BEGIN:VEVENT
DTSTART;TZID=Europe/Berlin:20250325T200000
DTEND;TZID=Europe/Berlin:20250325T211500
DTSTAMP:20260422T222534
CREATED:20250223T125349Z
LAST-MODIFIED:20250308T095328Z
UID:805-1742932800-1742937300@cv-eschelbach.de
SUMMARY:Jahreshauptversammlung 2025
DESCRIPTION:Herzliche Einladung zur \n\n\n\nJahreshauptversammlung \n\n\n\nChristlicher Missionsverein Kraichgau e.V. \n\n\n\nWeinstr. 4 / 74889 Sinsheim \n\n\n\nam \n\n\n\nDi\, 25. März 2025 \n\n\n\num 20.00 Uhr \n  \n  \n \nTagesordnung:\n\n\n \n\nBegrüßung und Ansprache des Vorstandes\n\n\n\nFeststellen der Beschlussfähigkeit\n\n\n\nGenehmigung der Tagesordnung\n\n\n\nBericht des Vorstandes und Rückblick\n\n\n\nKassenbericht 2024 und aktuelle finanzielle Situation\n\n\n\nGenehmigung des Kassenberichts aus 2024\n\n\n\nEntlastung Vorstand und Kassierer\n\n\n\nVerschiedenes\n\n \n\n\n \ni.A. des Vorstandes  \nStefan Keller \n\n\n \nSinsheim-Eschelbach\, den 07.03.2025 \n \n\nWeitere Punkte zur Tagesordnung bitte beim Vorstand anmelden oder über Info@CV-eschelbach.de
URL:http://cv-eschelbach.de/event/jahreshauptversammlung-2025/
END:VEVENT
BEGIN:VEVENT
DTSTART;TZID=Europe/Berlin:20250330T103000
DTEND;TZID=Europe/Berlin:20250330T114500
DTSTAMP:20260422T222534
CREATED:20250129T183155Z
LAST-MODIFIED:20250129T183155Z
UID:802-1743330600-1743335100@cv-eschelbach.de
SUMMARY:Predigt: Armin Lindenfelser
DESCRIPTION:
URL:http://cv-eschelbach.de/event/predigt-armin-lindenfelser-4/
END:VEVENT
END:VCALENDAR